BEGIN:VCALENDAR
VERSION:2.0
PRODID:-//https://www.kirche-zellerau.de///NONSGML kigkonsult.se iCalcreator 2.10.15//
METHOD:PUBLISH
BEGIN:VEVENT
UID:20260421T072553CEST-3911KVSaN7@https://www.kirche-zellerau.de/
DTSTAMP:20260421T052553Z
DESCRIPTION:Gymnastik und Bewegungstraining für MS-Erkrankte.\n\nWöchentlic
 h wiederkehrend Angebote:\nMontag: 10:00 Uhr Gesundheits-Walk … Lauf deine
 m Schmerz davon&nbsp\;· 16:00 Uhr Gymastik MS-Gruppe · 17:45 Uhr Seniorenc
 hor für Menschen mit Demenz und ihre Angehörigen (14. und 21.10.24)Diensta
 g: 13:30 Uhr Sitztanz (nicht am 22.10.) · 15:00 Uhr TischtennisMittwoch: 1
 0:00 Uhr Nordic WalkingDonnerstag:&nbsp\; 08:15 Uhr Englisch · 13:00 Uhr S
 chafkopf · 13-16:00 Uhr Behörden Coach · 15:00 Uhr Tischtennis\nZusätzlich
 e Angebote:\nGottesdienst der Sinne: Dienstag\, 01.10.\, um 14:00 Uhr\; Ki
 rche und Begegnung für Menschen mit und ohne Demenz\, mit Pfarrer Werner V
 ollmuth und Rosemarie HeimbergerGenuss-Café und Kuchen To go: Dienstag\, 0
 8.10.\, um 14:30 UhrTrauer-Treff der Malteser: Mittwoch\, 09.10.\, um 17:0
 0 Uhr (bei den Maltesern\, Mainaustraße 45)Ganzheitliches Gedächtnistraini
 ng: Donnerstag\, 10.10. und 24.10.\, um 10:00 UhrStrickkreis: Donnerstag\,
  10.10. und 24.10.\, um 14:00 UhrSpielenachmittag: Donnerstag\, 17.10. und
  31.10.\, um 14:00 UhrPflege- und Wohnberatung: Freitag\, 11.10.\, von 09:
 00 - 12:00 Uhr (Offenes Beratungsangebot im Quartier Zellerau)Wirtshaussin
 gen mit Ottmar Albert: Mittwoch\, 23.10.\, um 14:30 - 17:00 UhrWandertreff
  50+: Freitag\, 25.10.\, um 10:00 UhrSpanferkelassen im ABZ: Mittwoch\, 30
 .10.\, um 12:00 Uhr\; nur mit Anmeldung möglich\nBitte beachten Sie folgen
 des:  • Nur mit Anmeldung ist eine Teilnahme möglich! Tel:0931/38659-145 •
  Wir bitten Sie\, unser Haus nicht zu betreten\, wenn Sie an grippeähnlich
 en Symptomen leiden: wie Husten\, Halsschmerzen\, Fieber\, Schnupfen oder 
 Atemnot.\nIhr ABZ-Team https://www.kirche-zellerau.de/aktuelles/veranstalt
 ungen/event/1608-gymnastik-ms-gruppe-im-abz
DTSTART:20241014T110000Z
DTEND:20241014T210000Z
LOCATION:ABZ Heiligkreuz (Sedanstraße 7A\, 97082\, Würzburg\, Bayern)
SUMMARY:Gymnastik MS-Gruppe im ABZ
URL:https://www.kirche-zellerau.de/aktuelles/veranstaltungen/event/1608-gym
 nastik-ms-gruppe-im-abz
END:VEVENT
END:VCALENDAR
