BEGIN:VCALENDAR
VERSION:2.0
PRODID:-//https://www.kirche-zellerau.de///NONSGML kigkonsult.se iCalcreator 2.10.15//
METHOD:PUBLISH
BEGIN:VEVENT
UID:20260422T024154CEST-9760kTBvPj@https://www.kirche-zellerau.de/
DTSTAMP:20260422T004154Z
DESCRIPTION:Rotate-Messe im Advent am Mittwoch\, 06.12.2023 um 06:00 Uhr in
  der Kapelle St. Elisabeth. Anschließend gemeinsames Frühstück im Pfarrhei
 m.\nHerzliche Einladung zu den Rorate-Gottesdiensten in Heiligkreuz\, St. 
 Elisabeth und St. Burkard\nSt. Elisabeth: Mittwoch\, 06.12.\, 13.12. und 2
 0.12.2023 um 06:00 Uhr in der Kapelle\, anschl. Frühstück im PfarrheimSt. 
 Burkard: Donnerstag\, 07.12.\, 14.12. und 21.12.2023 um 06:30 Uhr in der P
 farrkirche\, anschl. Frühstück im PfarrsaalHeiligkreuz: Freitag\, 08.12.\,
  15.12. und 22.12.2023 um 06:00 Uhr in der Pfarrkirche\, anschl. Frühstück
  im Konferenzraum Heiligkreuz https://www.kirche-zellerau.de/aktuelles/ver
 anstaltungen/event/1158-rorate-messe-in-st-elisabeth
DTSTART:20231206T050000Z
DTEND:20231206T220000Z
LOCATION:Kapelle St. Elisabeth (Bohlleitenweg 44\, 97082 Würzburg)
SUMMARY:Rorate-Messe in St. Elisabeth
URL:https://www.kirche-zellerau.de/aktuelles/veranstaltungen/event/1158-ror
 ate-messe-in-st-elisabeth
END:VEVENT
END:VCALENDAR
