BEGIN:VCALENDAR
VERSION:2.0
PRODID:-//https://www.kirche-zellerau.de///NONSGML kigkonsult.se iCalcreator 2.10.15//
METHOD:PUBLISH
BEGIN:VEVENT
UID:20260421T023307CEST-9719kV7AhN@https://www.kirche-zellerau.de/
DTSTAMP:20260421T003307Z
DESCRIPTION:Schafkopftreff im ABZ\n\nWeihnachtsferien im ABZ vom 21.12.23 –
  05.01.2024\nWöchentlich wiederkehrend Angebote:Montag: 10:00 Uhr Gesundhe
 its-Walk … Lauf deinem Schmerz davon&nbsp\;· 16:00 Uhr Gymastik MS-Gruppe&
 nbsp\;· 17:45 Uhr Seniorenchor für Menschen mit Demenz und ihre Angehörige
 n&nbsp\;(am 11. und 18.12.2023))Dienstag: 13:30 Uhr Sitztanz · 15:00 Uhr T
 ischtennisDonnerstag:&nbsp\; 08:15 Uhr Englisch (Info im ABZ) · 13:00 Uhr 
 Schafkopf · 15:00 Uhr Tischtennis&nbsp\;·&nbsp\; 13-16:00 Uhr Behörden Coa
 ch&nbsp\;· 15:00 Uhr Tischtennis\nZusätzliche Angebote:\nMittwoch\, 06.12.
 23 Highlight im Advent:&nbsp\;14:30 Uhr Der Nikolaus kommt und mit ihm Kin
 der aus dem Kindergarten Heiligkreuz mit ihrem Lichtertanz.Donnerstag 07.1
 2. und 14.12.23: 14:00 Uhr StrickkreisDonnerstag\, 07.12.23: 10:00 Uhr Gan
 zheitliches GedächtnistrainingFreitag\, 08.12.23: 9:00 - 12:00 Uhr Pflege-
  und Wohnberatung (Offenes Beratungsangebot im Quartier Zellerau)Montag\, 
 12.12.23: 14:00 Uhr Treffen Egerländer G´moiMittwoch\, 13.12.23 Highlight 
 im Advent: 14:30 - 17:00 Uhr Wirtshaussingen im Advent mit Ottmar AlbertMi
 ttwoch\, 13.12.23: 17:00 Uhr Trauer-Treff der Malteser: hier haben Sie die
  Möglichkeit mit betroffenen Menschen in einem geschützten Rahmen ihrer Tr
 auer Raum und Ausdruck zu geben. Dabei unterstützen Sie ausgebildete Malte
 ser Hospiz und Trauerbegleiterinnen.Montag\, 18.12.23: 14:00 Uhr Meditativ
 er TanzMittwoch\, 20.12.23 Highlight im Advent: 14:30 Uhr Weihnachtliche S
 timmung mit den Bockertöberle. Musikalische Darbietung vom Traditions-Club
  aus Grombühl.\nBitte beachten Sie folgendes:  • Nur mit Anmeldung ist ein
 e Teilnahme möglich! Tel:0931/38659-145 • Wir bitten Sie\, unser Haus nich
 t zu betreten\, wenn Sie an grippeähnlichen Symptomen leiden: wie Husten\,
  Halsschmerzen\, Fieber\, Schnupfen oder Atemnot.\nIhr ABZ-Team https://ww
 w.kirche-zellerau.de/aktuelles/veranstaltungen/event/1149-schafkopf-im-abz
DTSTART:20231207T120000Z
DTEND:20231207T220000Z
LOCATION:ABZ Heiligkreuz (Sedanstraße 7A\, 97082\, Würzburg\, Bayern)
SUMMARY:Schafkopf im ABZ
URL:https://www.kirche-zellerau.de/aktuelles/veranstaltungen/event/1149-sch
 afkopf-im-abz
END:VEVENT
END:VCALENDAR
